BEGIN:VCALENDAR
VERSION:2.0
PRODID:-//Strahlenschutzakademie Celle - ECPv5.12.2//NONSGML v1.0//EN
CALSCALE:GREGORIAN
METHOD:PUBLISH
X-WR-CALNAME:Strahlenschutzakademie Celle
X-ORIGINAL-URL:https://strahlenschutzakademie-celle.de
X-WR-CALDESC:Events for Strahlenschutzakademie Celle
REFRESH-INTERVAL;VALUE=DURATION:PT1H
X-Robots-Tag:noindex
X-PUBLISHED-TTL:PT1H
BEGIN:VTIMEZONE
TZID:UTC
BEGIN:STANDARD
TZOFFSETFROM:+0000
TZOFFSETTO:+0000
TZNAME:UTC
DTSTART:20220101T000000
END:STANDARD
END:VTIMEZONE
BEGIN:VEVENT
DTSTART;TZID=UTC:20220127T130000
DTEND;TZID=UTC:20220127T170000
DTSTAMP:20260421T143818
CREATED:20220109T114920Z
LAST-MODIFIED:20220109T114920Z
UID:177-1643288400-1643302800@strahlenschutzakademie-celle.de
SUMMARY:Strahlenschutz Aktualisierungskurs für Pflegekräfte (4h)
DESCRIPTION:Für MitarbeiterInnen mit Kenntnissen im Strahlenschutz. Der Kurs ist von der Ärztekammer Niedersachsen anerkannt.
URL:https://strahlenschutzakademie-celle.de/event/strahlenschutz-aktualisierungskurs-fuer-pflegekraefte-4h/
LOCATION:AKH Celle\, Siemensplatz 4\, Celle\, 29223\, Deutschland
END:VEVENT
END:VCALENDAR